BEGIN:VCALENDAR
VERSION:2.0
PRODID:-//The Pas Friendship Centre - ECPv6.15.20//NONSGML v1.0//EN
CALSCALE:GREGORIAN
METHOD:PUBLISH
X-ORIGINAL-URL:https://www.thepasfc.ca
X-WR-CALDESC:Events for The Pas Friendship Centre
REFRESH-INTERVAL;VALUE=DURATION:PT1H
X-Robots-Tag:noindex
X-PUBLISHED-TTL:PT1H
BEGIN:VTIMEZONE
TZID:UTC
BEGIN:STANDARD
TZOFFSETFROM:+0000
TZOFFSETTO:+0000
TZNAME:UTC
DTSTART:20220101T000000
END:STANDARD
END:VTIMEZONE
BEGIN:VEVENT
DTSTART;TZID=UTC:20240126T160000
DTEND;TZID=UTC:20240126T190000
DTSTAMP:20260421T101522
CREATED:20240117T183238Z
LAST-MODIFIED:20240117T183238Z
UID:6990-1706284800-1706295600@www.thepasfc.ca
SUMMARY:Pearler Bead Craft
DESCRIPTION:
URL:https://www.thepasfc.ca/event/pearler-bead-craft/
LOCATION:The Pas Friendship Centre Inc.\, 81 Edwards Avenue\,\, The Pas\, MB\, Manitoba\, R9A 1M3\, Canada
END:VEVENT
BEGIN:VEVENT
DTSTART;TZID=UTC:20240125T160000
DTEND;TZID=UTC:20240125T190000
DTSTAMP:20260421T101522
CREATED:20240117T183120Z
LAST-MODIFIED:20240117T183120Z
UID:6987-1706198400-1706209200@www.thepasfc.ca
SUMMARY:Family Cake Decorating Class
DESCRIPTION:
URL:https://www.thepasfc.ca/event/family-cake-decorating-class/
LOCATION:The Pas Friendship Centre Inc.\, 81 Edwards Avenue\,\, The Pas\, MB\, Manitoba\, R9A 1M3\, Canada
END:VEVENT
BEGIN:VEVENT
DTSTART;TZID=UTC:20240123T160000
DTEND;TZID=UTC:20240123T190000
DTSTAMP:20260421T101522
CREATED:20240117T183020Z
LAST-MODIFIED:20240117T183020Z
UID:6984-1706025600-1706036400@www.thepasfc.ca
SUMMARY:Medicine Bag Making
DESCRIPTION:
URL:https://www.thepasfc.ca/event/medicine-bag-making/
LOCATION:The Pas Friendship Centre Inc.\, 81 Edwards Avenue\,\, The Pas\, MB\, Manitoba\, R9A 1M3\, Canada
END:VEVENT
BEGIN:VEVENT
DTSTART;TZID=UTC:20240119T160000
DTEND;TZID=UTC:20240119T190000
DTSTAMP:20260421T101522
CREATED:20240117T182921Z
LAST-MODIFIED:20240117T182921Z
UID:6980-1705680000-1705690800@www.thepasfc.ca
SUMMARY:Crochet Night
DESCRIPTION:
URL:https://www.thepasfc.ca/event/crochet-night/
LOCATION:The Pas Friendship Centre Inc.\, 81 Edwards Avenue\,\, The Pas\, MB\, Manitoba\, R9A 1M3\, Canada
END:VEVENT
BEGIN:VEVENT
DTSTART;TZID=UTC:20231206T083000
DTEND;TZID=UTC:20231206T130000
DTSTAMP:20260421T101522
CREATED:20231126T015309Z
LAST-MODIFIED:20231126T015309Z
UID:6927-1701851400-1701867600@www.thepasfc.ca
SUMMARY:Primary Health Care Centre will be here to do STI / HEP-C TESTING
DESCRIPTION:
URL:https://www.thepasfc.ca/event/primary-health-care-centre-will-be-here-to-do-sti-hep-c-testing/
LOCATION:The Pas Friendship Centre Inc.\, 81 Edwards Avenue\,\, The Pas\, MB\, Manitoba\, R9A 1M3\, Canada
END:VEVENT
BEGIN:VEVENT
DTSTART;TZID=UTC:20231129T180000
DTEND;TZID=UTC:20231129T200000
DTSTAMP:20260421T101522
CREATED:20231126T014645Z
LAST-MODIFIED:20231126T014645Z
UID:6919-1701280800-1701288000@www.thepasfc.ca
SUMMARY:Christmas Workshop Stocking Decorating
DESCRIPTION:
URL:https://www.thepasfc.ca/event/christmas-workshop-stocking-decorating/
LOCATION:The Pas Friendship Centre Inc.\, 81 Edwards Avenue\,\, The Pas\, MB\, Manitoba\, R9A 1M3\, Canada
END:VEVENT
BEGIN:VEVENT
DTSTART;TZID=UTC:20231129T083000
DTEND;TZID=UTC:20231129T130000
DTSTAMP:20260421T101522
CREATED:20231126T015016Z
LAST-MODIFIED:20231126T015016Z
UID:6924-1701246600-1701262800@www.thepasfc.ca
SUMMARY:Primary Health Care Centre will be here to do Immunization and covid shots
DESCRIPTION:
URL:https://www.thepasfc.ca/event/primary-health-care-centre-will-be-here-to-do-immunization-and-covid-shots/
LOCATION:The Pas Friendship Centre Inc.\, 81 Edwards Avenue\,\, The Pas\, MB\, Manitoba\, R9A 1M3\, Canada
END:VEVENT
BEGIN:VEVENT
DTSTART;TZID=UTC:20231028T160000
DTEND;TZID=UTC:20231028T183000
DTSTAMP:20260421T101522
CREATED:20230922T134523Z
LAST-MODIFIED:20230922T134523Z
UID:6800-1698508800-1698517800@www.thepasfc.ca
SUMMARY:🎃 Join us for the Monster Mash Party! 🎉
DESCRIPTION:
URL:https://www.thepasfc.ca/event/%f0%9f%8e%83-join-us-for-the-monster-mash-party-%f0%9f%8e%89/
LOCATION:THE PAS METIS HALL\, 1515 Gordon Ave\, The Pas\, MB\, Manitoba\, R9A 1K3\, Canada
END:VEVENT
BEGIN:VEVENT
DTSTART;TZID=UTC:20231019T110000
DTEND;TZID=UTC:20231019T140000
DTSTAMP:20260421T101522
CREATED:20231005T135132Z
LAST-MODIFIED:20231005T135132Z
UID:6867-1697713200-1697724000@www.thepasfc.ca
SUMMARY:STI / HEP-C Testing
DESCRIPTION:
URL:https://www.thepasfc.ca/event/sti-hep-c-testing-2/
LOCATION:The Pas Friendship Centre Inc.\, 81 Edwards Avenue\,\, The Pas\, MB\, Manitoba\, R9A 1M3\, Canada
END:VEVENT
BEGIN:VEVENT
DTSTART;TZID=UTC:20230930T090000
DTEND;TZID=UTC:20230930T150000
DTSTAMP:20260421T101522
CREATED:20230920T143734Z
LAST-MODIFIED:20230920T143734Z
UID:6793-1696064400-1696086000@www.thepasfc.ca
SUMMARY:Residential School Program\, Every Child Matters Orange Shirt Day
DESCRIPTION:
URL:https://www.thepasfc.ca/event/residential-school-program-every-child-matters-orange-shirt-day-3/
LOCATION:OCN Arborsite\, OCN Arborsite\, Opaskwayak\, MB\, Canada
END:VEVENT
BEGIN:VEVENT
DTSTART;TZID=UTC:20230929T100000
DTEND;TZID=UTC:20230929T150000
DTSTAMP:20260421T101522
CREATED:20230920T143645Z
LAST-MODIFIED:20230920T143645Z
UID:6790-1695981600-1695999600@www.thepasfc.ca
SUMMARY:Residential School Program\, Every Child Matters Orange Shirt Day.
DESCRIPTION:
URL:https://www.thepasfc.ca/event/residential-school-program-every-child-matters-orange-shirt-day-2/
LOCATION:OCN Arborsite\, OCN Arborsite\, Opaskwayak\, MB\, Canada
END:VEVENT
BEGIN:VEVENT
DTSTART;TZID=UTC:20230928T100000
DTEND;TZID=UTC:20230928T150000
DTSTAMP:20260421T101522
CREATED:20230920T143533Z
LAST-MODIFIED:20230920T143533Z
UID:6786-1695895200-1695913200@www.thepasfc.ca
SUMMARY:Residential School Program\, Every Child Matters Orange Shirt Day
DESCRIPTION:
URL:https://www.thepasfc.ca/event/residential-school-program-every-child-matters-orange-shirt-day/
LOCATION:OCN Arborsite\, OCN Arborsite\, Opaskwayak\, MB\, Canada
END:VEVENT
BEGIN:VEVENT
DTSTART;TZID=UTC:20230915T180000
DTEND;TZID=UTC:20230915T210000
DTSTAMP:20260421T101522
CREATED:20230912T173216Z
LAST-MODIFIED:20230912T173216Z
UID:6727-1694800800-1694811600@www.thepasfc.ca
SUMMARY:Ribbon Skirt and Shirt Workshop
DESCRIPTION:
URL:https://www.thepasfc.ca/event/ribbon-skirt-and-shirt-workshop-2/
LOCATION:The Pas Friendship Centre Inc.\, 81 Edwards Avenue\,\, The Pas\, MB\, Manitoba\, R9A 1M3\, Canada
END:VEVENT
BEGIN:VEVENT
DTSTART;TZID=UTC:20230914T180000
DTEND;TZID=UTC:20230914T210000
DTSTAMP:20260421T101522
CREATED:20230912T173028Z
LAST-MODIFIED:20230912T173028Z
UID:6723-1694714400-1694725200@www.thepasfc.ca
SUMMARY:Ribbon Skirt and Shirt Workshop
DESCRIPTION:
URL:https://www.thepasfc.ca/event/ribbon-skirt-and-shirt-workshop/
LOCATION:The Pas Friendship Centre Inc.\, 81 Edwards Avenue\,\, The Pas\, MB\, Manitoba\, R9A 1M3\, Canada
END:VEVENT
BEGIN:VEVENT
DTSTART;TZID=UTC:20230907T120000
DTEND;TZID=UTC:20230907T130000
DTSTAMP:20260421T101522
CREATED:20230815T144056Z
LAST-MODIFIED:20230815T144056Z
UID:6669-1694088000-1694091600@www.thepasfc.ca
SUMMARY:🌟 Join Us for Our Annual General Meeting! 🌟
DESCRIPTION:
URL:https://www.thepasfc.ca/event/%f0%9f%8c%9f-join-us-for-our-annual-general-meeting-%f0%9f%8c%9f/
LOCATION:The Pas Friendship Centre Inc.\, 81 Edwards Avenue\,\, The Pas\, MB\, Manitoba\, R9A 1M3\, Canada
END:VEVENT
BEGIN:VEVENT
DTSTART;TZID=UTC:20230830T100000
DTEND;TZID=UTC:20230830T140000
DTSTAMP:20260421T101522
CREATED:20230824T211032Z
LAST-MODIFIED:20230830T142605Z
UID:6693-1693389600-1693404000@www.thepasfc.ca
SUMMARY:Help Us Clean The Kelsey Estate Park 🌳 Exciting News: Event Happening Today! 🌳
DESCRIPTION:
URL:https://www.thepasfc.ca/event/help-us-clean-the-kelsey-estate-park/
LOCATION:22 Tremauden Avenue\, 22 Tremauden Avenue\, THE PAS\, Manitoba\, R9A 1M3\, Canada
END:VEVENT
BEGIN:VEVENT
DTSTART;TZID=UTC:20230720T113000
DTEND;TZID=UTC:20230720T140000
DTSTAMP:20260421T101522
CREATED:20230706T145733Z
LAST-MODIFIED:20230706T145931Z
UID:6645-1689852600-1689861600@www.thepasfc.ca
SUMMARY:STI / HEP-C Testing Clinic
DESCRIPTION:
URL:https://www.thepasfc.ca/event/sti-hep-c-testing-clinic/
LOCATION:Manitoba
END:VEVENT
BEGIN:VEVENT
DTSTART;TZID=UTC:20230627T113000
DTEND;TZID=UTC:20230627T140000
DTSTAMP:20260421T101522
CREATED:20230620T135029Z
LAST-MODIFIED:20230620T135029Z
UID:6593-1687865400-1687874400@www.thepasfc.ca
SUMMARY:STI / HEP-C TESTING
DESCRIPTION:
URL:https://www.thepasfc.ca/event/sti-hep-c-testing/
LOCATION:The Pas Friendship Centre Inc.\, 81 Edwards Avenue\,\, The Pas\, MB\, Manitoba\, R9A 1M3\, Canada
END:VEVENT
BEGIN:VEVENT
DTSTART;TZID=UTC:20230621T150000
DTEND;TZID=UTC:20230621T200000
DTSTAMP:20260421T101522
CREATED:20230608T150055Z
LAST-MODIFIED:20230608T150055Z
UID:6537-1687359600-1687377600@www.thepasfc.ca
SUMMARY:🌍🌱 Celebrate National Indigenous Peoples Day! 🌱🌍
DESCRIPTION:
URL:https://www.thepasfc.ca/event/%f0%9f%8c%8d%f0%9f%8c%b1-celebrate-national-indigenous-peoples-day-%f0%9f%8c%b1%f0%9f%8c%8d/
LOCATION:THE PAS METIS HALL\, 1515 Gordon Ave\, The Pas\, MB\, Manitoba\, R9A 1K3\, Canada
END:VEVENT
BEGIN:VEVENT
DTSTART;TZID=UTC:20230604T083000
DTEND;TZID=UTC:20230604T163000
DTSTAMP:20260421T101522
CREATED:20230517T174318Z
LAST-MODIFIED:20230517T174318Z
UID:6517-1685867400-1685896200@www.thepasfc.ca
SUMMARY:BABAY SITTER COURSE
DESCRIPTION:
URL:https://www.thepasfc.ca/event/babay-sitter-course/
LOCATION:The Pas Friendship Centre Inc.\, 81 Edwards Avenue\,\, The Pas\, MB\, Manitoba\, R9A 1M3\, Canada
END:VEVENT
BEGIN:VEVENT
DTSTART;TZID=UTC:20230603T130000
DTEND;TZID=UTC:20230603T140000
DTSTAMP:20260421T101522
CREATED:20230424T205630Z
LAST-MODIFIED:20230424T205630Z
UID:6367-1685797200-1685800800@www.thepasfc.ca
SUMMARY:FREE SWIMMING
DESCRIPTION:
URL:https://www.thepasfc.ca/event/free-swimming-2/
LOCATION:WINTON POOL\, 254 Grace Lake Rd\, The Pas\, MB\, Manitoba\, R9A 1K8\, Canada
END:VEVENT
BEGIN:VEVENT
DTSTART;TZID=UTC:20230529T183000
DTEND;TZID=UTC:20230529T200000
DTSTAMP:20260421T101522
CREATED:20230425T211657Z
LAST-MODIFIED:20230425T211657Z
UID:6392-1685385000-1685390400@www.thepasfc.ca
SUMMARY:ESL program English As a Second Language
DESCRIPTION:
URL:https://www.thepasfc.ca/event/esl-program-english-as-a-second-language-5/
LOCATION:The Pas Friendship Centre Inc.\, 81 Edwards Avenue\,\, The Pas\, MB\, Manitoba\, R9A 1M3\, Canada
END:VEVENT
BEGIN:VEVENT
DTSTART;TZID=UTC:20230529T113000
DTEND;TZID=UTC:20230529T140000
DTSTAMP:20260421T101522
CREATED:20230509T171445Z
LAST-MODIFIED:20230509T171445Z
UID:6446-1685359800-1685368800@www.thepasfc.ca
SUMMARY:Hep-C/STI testing clinic
DESCRIPTION:
URL:https://www.thepasfc.ca/event/hep-c-sti-testing-clinic/
LOCATION:The Pas Friendship Centre Inc.\, 81 Edwards Avenue\,\, The Pas\, MB\, Manitoba\, R9A 1M3\, Canada
END:VEVENT
BEGIN:VEVENT
DTSTART;TZID=UTC:20230522T140000
DTEND;TZID=UTC:20230522T140000
DTSTAMP:20260421T101522
CREATED:20230515T172255Z
LAST-MODIFIED:20241004T121118Z
UID:6468-1684764000-1684764000@www.thepasfc.ca
SUMMARY:SWEAT Program
DESCRIPTION:
URL:https://www.thepasfc.ca/event/sweat-program/
LOCATION:Umpherville Road The Pas MB\, UmpherVille Road The Pas MB\, The Pas\, Manitoba\, Canada
CATEGORIES:New
END:VEVENT
BEGIN:VEVENT
DTSTART;TZID=UTC:20230515T183000
DTEND;TZID=UTC:20230515T200000
DTSTAMP:20260421T101522
CREATED:20230425T211545Z
LAST-MODIFIED:20230425T211545Z
UID:6390-1684175400-1684180800@www.thepasfc.ca
SUMMARY:ESL program English As a Second Language
DESCRIPTION:
URL:https://www.thepasfc.ca/event/esl-program-english-as-a-second-language-4/
LOCATION:The Pas Friendship Centre Inc.\, 81 Edwards Avenue\,\, The Pas\, MB\, Manitoba\, R9A 1M3\, Canada
END:VEVENT
BEGIN:VEVENT
DTSTART;TZID=UTC:20230513T130000
DTEND;TZID=UTC:20230513T140000
DTSTAMP:20260421T101522
CREATED:20230424T205538Z
LAST-MODIFIED:20230424T205538Z
UID:6364-1683982800-1683986400@www.thepasfc.ca
SUMMARY:FREE SWIMMING
DESCRIPTION:
URL:https://www.thepasfc.ca/event/free-swimming/
LOCATION:WINTON POOL\, 254 Grace Lake Rd\, The Pas\, MB\, Manitoba\, R9A 1K8\, Canada
END:VEVENT
BEGIN:VEVENT
DTSTART;TZID=UTC:20230512T170000
DTEND;TZID=UTC:20230512T170000
DTSTAMP:20260421T101522
CREATED:20230504T163926Z
LAST-MODIFIED:20230504T163926Z
UID:6441-1683910800-1683910800@www.thepasfc.ca
SUMMARY:SWEAT MONTHLY
DESCRIPTION:
URL:https://www.thepasfc.ca/event/sweat-monthly/
LOCATION:Umpherville Road The Pas MB\, UmpherVille Road The Pas MB\, The Pas\, Manitoba\, Canada
END:VEVENT
BEGIN:VEVENT
DTSTART;TZID=UTC:20230508T183000
DTEND;TZID=UTC:20230508T200000
DTSTAMP:20260421T101522
CREATED:20230425T211506Z
LAST-MODIFIED:20230425T211506Z
UID:6388-1683570600-1683576000@www.thepasfc.ca
SUMMARY:ESL program English As a Second Language
DESCRIPTION:
URL:https://www.thepasfc.ca/event/esl-program-english-as-a-second-language-3/
LOCATION:The Pas Friendship Centre Inc.\, 81 Edwards Avenue\,\, The Pas\, MB\, Manitoba\, R9A 1M3\, Canada
END:VEVENT
BEGIN:VEVENT
DTSTART;TZID=UTC:20230505T203000
DTEND;TZID=UTC:20230505T213000
DTSTAMP:20260421T101522
CREATED:20230424T182540Z
LAST-MODIFIED:20230424T183833Z
UID:6355-1683318600-1683322200@www.thepasfc.ca
SUMMARY:MMIWG2S CANDLE LIGHT VIGIL TO FOLLOW @ DEVON PARK
DESCRIPTION:
URL:https://www.thepasfc.ca/event/candle-light-vigil-to-follow-devon-park/
LOCATION:DEVON PARK\, DEVON PARK\, The Pas\, MB\, Manitoba\, Canada
END:VEVENT
BEGIN:VEVENT
DTSTART;TZID=UTC:20230505T170000
DTEND;TZID=UTC:20230505T200000
DTSTAMP:20260421T101522
CREATED:20230424T182245Z
LAST-MODIFIED:20230424T182245Z
UID:6352-1683306000-1683316800@www.thepasfc.ca
SUMMARY:MMIWG2S NATIONAL DAY OF AWARENESS & ACTION
DESCRIPTION:
URL:https://www.thepasfc.ca/event/mmiwg2s-national-day-of-awareness-action/
LOCATION:THE PAS METIS HALL\, 1515 Gordon Ave\, The Pas\, MB\, Manitoba\, R9A 1K3\, Canada
END:VEVENT
END:VCALENDAR